BEGIN:VCALENDAR
VERSION:2.0
PRODID:-//Global Integrity Anti-Corruption Evidence - ECPv5.7.0//NONSGML v1.0//EN
CALSCALE:GREGORIAN
METHOD:PUBLISH
X-WR-CALNAME:Global Integrity Anti-Corruption Evidence
X-ORIGINAL-URL:https://ace.globalintegrity.org
X-WR-CALDESC:Events for Global Integrity Anti-Corruption Evidence
BEGIN:VTIMEZONE
TZID:UTC
BEGIN:STANDARD
TZOFFSETFROM:+0000
TZOFFSETTO:+0000
TZNAME:UTC
DTSTART:20210101T000000
END:STANDARD
END:VTIMEZONE
BEGIN:VEVENT
DTSTART;TZID=UTC:20210618T080000
DTEND;TZID=UTC:20210618T093000
DTSTAMP:20210724T230837
CREATED:20210526T165516Z
LAST-MODIFIED:20210526T165516Z
UID:2846-1624003200-1624008600@ace.globalintegrity.org
SUMMARY:ICRN Roundtable: How can academia & policy communicate in anti-corruption?
DESCRIPTION:Veronica
URL:https://gint.info/icrn2021-gi-ace-roundtable#new_tab
LOCATION:Zoom Event
ATTACH;FMTTYPE=image/jpeg:https://ace.globalintegrity.org/wp-content/uploads/2021/05/https___cdn.evbuc_.com_images_136654105_462851242642_1_original.jpeg
END:VEVENT
END:VCALENDAR